BEGIN:VCALENDAR
VERSION:2.0
PRODID:-//TYPO3/NONSGML Calendarize//EN
BEGIN:VEVENT
UID:calendarize-forst-feldmess-und-sozialpraktikum
DTSTAMP:20250918T213132Z
DTSTART;VALUE=DATE:20250922
DTEND;VALUE=DATE:20251003
SUMMARY:Forst-\, Feldmess- und Sozialpraktikum
DESCRIPTION:
X-ALT-DESC;FMTTYPE=text/html:
LOCATION:
END:VEVENT
END:VCALENDAR
