BEGIN:VCALENDAR
VERSION:2.0
PRODID:-//TYPO3/NONSGML Calendarize//EN
BEGIN:VEVENT
UID:calendarize-ferienbetreuung-in-der-kita-3
DTSTAMP:20250715T123712Z
DTSTART;VALUE=DATE:20250707
DTEND;VALUE=DATE:20250719
SUMMARY:Ferienbetreuung in der Kita
DESCRIPTION:
X-ALT-DESC;FMTTYPE=text/html:
LOCATION:
END:VEVENT
END:VCALENDAR
