BEGIN:VCALENDAR
VERSION:2.0
PRODID:-//TYPO3/NONSGML Calendarize//EN
BEGIN:VEVENT
UID:calendarize-fackelfuehrung-die-frauensiedlung-loheland-entdecken-1
DTSTAMP:20251110T152445Z
DTSTART:20251116T150000Z
DTEND:20251116T163000Z
SUMMARY:Fackelführung "Die Frauensiedlung Loheland entdecken"
DESCRIPTION: \n
X-ALT-DESC;FMTTYPE=text/html: \n
LOCATION:Café+Laden
END:VEVENT
END:VCALENDAR
