BEGIN:VCALENDAR
VERSION:2.0
PRODID:-//TYPO3/NONSGML Calendarize//EN
BEGIN:VEVENT
UID:calendarize-entlassfeier-jahrgangsstufe-10
DTSTAMP:20260419T150242Z
DTSTART:20260622T150000Z
DTEND:20260622T210000Z
SUMMARY:Entlassfeier Jahrgangsstufe 10
DESCRIPTION: \n
X-ALT-DESC;FMTTYPE=text/html: \n
LOCATION:Franziskusbau
END:VEVENT
END:VCALENDAR
