BEGIN:VCALENDAR
VERSION:2.0
PRODID:-//TYPO3/NONSGML Calendarize//EN
BEGIN:VEVENT
UID:calendarize-elve-sitzung-7
DTSTAMP:20260126T135715Z
DTSTART:20260212T190000Z
DTEND:20260212T203000Z
SUMMARY:ELVE-Sitzung
DESCRIPTION: \n
X-ALT-DESC;FMTTYPE=text/html: \n
LOCATION:Schulhaus III\, Musiksaal
END:VEVENT
END:VCALENDAR
