BEGIN:VCALENDAR
VERSION:2.0
PRODID:-//TYPO3/NONSGML Calendarize//EN
BEGIN:VEVENT
UID:calendarize-elve-sitzung-6
DTSTAMP:20260114T200456Z
DTSTART:20260115T190000Z
DTEND:20260115T203000Z
SUMMARY:ELVE-Sitzung
DESCRIPTION: \n
X-ALT-DESC;FMTTYPE=text/html: \n
LOCATION:Schulhaus III\, Musiksaal
END:VEVENT
END:VCALENDAR
