BEGIN:VCALENDAR
VERSION:2.0
PRODID:-//TYPO3/NONSGML Calendarize//EN
BEGIN:VEVENT
UID:calendarize-elve-sitzung-2
DTSTAMP:20251204T121930Z
DTSTART:20251211T190000Z
DTEND:20251211T203000Z
SUMMARY:ELVE-Sitzung
DESCRIPTION: \n
X-ALT-DESC;FMTTYPE=text/html: \n
LOCATION:Schulhaus III\, Musiksaal
END:VEVENT
END:VCALENDAR
