BEGIN:VCALENDAR
VERSION:2.0
PRODID:-//TYPO3/NONSGML Calendarize//EN
BEGIN:VEVENT
UID:calendarize-elternsamstag-1
DTSTAMP:20260126T135715Z
DTSTART:20260228T083000Z
DTEND:20260228T113000Z
SUMMARY:Elternsamstag
DESCRIPTION:Die Wahrnehmung eines Samstagtermines ist verpflichtend für a
 lle Bewerber:innen.\n \n
X-ALT-DESC;FMTTYPE=text/html:Die Wahrnehmung eines Samstagtermines ist ver
 pflichtend für alle Bewerber:innen.\n \n
LOCATION:Schulhaus III\, Musiksaal
END:VEVENT
END:VCALENDAR
