BEGIN:VCALENDAR
VERSION:2.0
PRODID:-//TYPO3/NONSGML Calendarize//EN
BEGIN:VEVENT
UID:calendarize-elternabend-waldgruppe-3
DTSTAMP:20250918T213132Z
DTSTART:20260317T180000Z
DTEND:20260317T193000Z
SUMMARY:Elternabend Waldgruppe
DESCRIPTION: \n
X-ALT-DESC;FMTTYPE=text/html: \n
LOCATION:
END:VEVENT
END:VCALENDAR
