BEGIN:VCALENDAR
VERSION:2.0
PRODID:-//TYPO3/NONSGML Calendarize//EN
BEGIN:VEVENT
UID:calendarize-elternabend-marienkaefer-4
DTSTAMP:20250918T213132Z
DTSTART:20250923T180000Z
DTEND:20250923T193000Z
SUMMARY:Elternabend Marienkäfer
DESCRIPTION: \n
X-ALT-DESC;FMTTYPE=text/html: \n
LOCATION:Gruppenraum
END:VEVENT
END:VCALENDAR
