BEGIN:VCALENDAR
VERSION:2.0
PRODID:-//TYPO3/NONSGML Calendarize//EN
BEGIN:VEVENT
UID:calendarize-elternabend-krippe-3
DTSTAMP:20250918T213132Z
DTSTART:20251023T170000Z
DTEND:20251023T183000Z
SUMMARY:Elternabend Krippe
DESCRIPTION: \n
X-ALT-DESC;FMTTYPE=text/html: \n
LOCATION:
END:VEVENT
END:VCALENDAR
