BEGIN:VCALENDAR
VERSION:2.0
PRODID:-//TYPO3/NONSGML Calendarize//EN
BEGIN:VEVENT
UID:calendarize-elternabend-klasse-9k
DTSTAMP:20251027T174323Z
DTSTART:20251105T180000Z
DTEND:20251105T193000Z
SUMMARY:Elternabend Klasse 9K
DESCRIPTION: \n
X-ALT-DESC;FMTTYPE=text/html: \n
LOCATION:
END:VEVENT
END:VCALENDAR
