BEGIN:VCALENDAR
VERSION:2.0
PRODID:-//TYPO3/NONSGML Calendarize//EN
BEGIN:VEVENT
UID:calendarize-elternabend-klasse-8a-4
DTSTAMP:20251027T174323Z
DTSTART:20251103T190000Z
DTEND:20251103T203000Z
SUMMARY:Elternabend Klasse 8a
DESCRIPTION: \n
X-ALT-DESC;FMTTYPE=text/html: \n
LOCATION:
END:VEVENT
END:VCALENDAR
