BEGIN:VCALENDAR
VERSION:2.0
PRODID:-//TYPO3/NONSGML Calendarize//EN
BEGIN:VEVENT
UID:calendarize-elternabend-klasse-7b-3
DTSTAMP:20260114T200456Z
DTSTART:20260120T180000Z
DTEND:20260120T193000Z
SUMMARY:Elternabend Klasse 7b
DESCRIPTION: \n
X-ALT-DESC;FMTTYPE=text/html: \n
LOCATION:
END:VEVENT
END:VCALENDAR
