BEGIN:VCALENDAR
VERSION:2.0
PRODID:-//TYPO3/NONSGML Calendarize//EN
BEGIN:VEVENT
UID:calendarize-elternabend-klasse-7a-5
DTSTAMP:20251119T104234Z
DTSTART:20251126T180000Z
DTEND:20251126T193000Z
SUMMARY:Elternabend Klasse 7a
DESCRIPTION: \n
X-ALT-DESC;FMTTYPE=text/html: \n
LOCATION:
END:VEVENT
END:VCALENDAR
