BEGIN:VCALENDAR
VERSION:2.0
PRODID:-//TYPO3/NONSGML Calendarize//EN
BEGIN:VEVENT
UID:calendarize-elternabend-klasse-5b-7
DTSTAMP:20260126T135715Z
DTSTART:20260127T180000Z
DTEND:20260127T193000Z
SUMMARY:Elternabend Klasse 5b
DESCRIPTION: \n
X-ALT-DESC;FMTTYPE=text/html: \n
LOCATION:Musiksaal
END:VEVENT
END:VCALENDAR
