BEGIN:VCALENDAR
VERSION:2.0
PRODID:-//TYPO3/NONSGML Calendarize//EN
BEGIN:VEVENT
UID:calendarize-elternabend-klasse-5b-6
DTSTAMP:20251204T121930Z
DTSTART:20251208T180000Z
DTEND:20251208T193000Z
SUMMARY:Elternabend Klasse 5b
DESCRIPTION: \n
X-ALT-DESC;FMTTYPE=text/html: \n
LOCATION:Musiksaal
END:VEVENT
END:VCALENDAR
