BEGIN:VCALENDAR
VERSION:2.0
PRODID:-//TYPO3/NONSGML Calendarize//EN
BEGIN:VEVENT
UID:calendarize-elternabend-klasse-5a-5
DTSTAMP:20260312T145215Z
DTSTART:20260324T183000Z
DTEND:20260324T200000Z
SUMMARY:Elternabend Klasse 5a
DESCRIPTION: \n
X-ALT-DESC;FMTTYPE=text/html: \n
LOCATION:
END:VEVENT
END:VCALENDAR
