BEGIN:VCALENDAR
VERSION:2.0
PRODID:-//TYPO3/NONSGML Calendarize//EN
BEGIN:VEVENT
UID:calendarize-elternabend-klasse-5a-4
DTSTAMP:20260126T135715Z
DTSTART:20260127T183000Z
DTEND:20260127T200000Z
SUMMARY:Elternabend Klasse 5a
DESCRIPTION: \n
X-ALT-DESC;FMTTYPE=text/html: \n
LOCATION:
END:VEVENT
END:VCALENDAR
