BEGIN:VCALENDAR
VERSION:2.0
PRODID:-//TYPO3/NONSGML Calendarize//EN
BEGIN:VEVENT
UID:calendarize-elternabend-klasse-4a
DTSTAMP:20251014T111413Z
DTSTART:20251022T173000Z
DTEND:20251022T190000Z
SUMMARY:Elternabend Klasse 4a
DESCRIPTION: \n
X-ALT-DESC;FMTTYPE=text/html: \n
LOCATION:
END:VEVENT
END:VCALENDAR
