BEGIN:VCALENDAR
VERSION:2.0
PRODID:-//TYPO3/NONSGML Calendarize//EN
BEGIN:VEVENT
UID:calendarize-elternabend-klasse-4-4
DTSTAMP:20250519T145138Z
DTSTART;VALUE=DATE:20250610
DTEND;VALUE=DATE:20250611
SUMMARY:Elternabend Klasse 4
DESCRIPTION: \n
X-ALT-DESC;FMTTYPE=text/html: \n
LOCATION:
END:VEVENT
END:VCALENDAR
