BEGIN:VCALENDAR
VERSION:2.0
PRODID:-//TYPO3/NONSGML Calendarize//EN
BEGIN:VEVENT
UID:calendarize-elternabend-klasse-3b-1
DTSTAMP:20251217T123538Z
DTSTART:20260113T183000Z
DTEND:20260113T200000Z
SUMMARY:Elternabend Klasse 3b
DESCRIPTION: \n
X-ALT-DESC;FMTTYPE=text/html: \n
LOCATION:
END:VEVENT
END:VCALENDAR
