BEGIN:VCALENDAR
VERSION:2.0
PRODID:-//TYPO3/NONSGML Calendarize//EN
BEGIN:VEVENT
UID:calendarize-elternabend-klasse-3a-6
DTSTAMP:20260126T135715Z
DTSTART:20260128T183000Z
DTEND:20260128T200000Z
SUMMARY:Elternabend Klasse 3a
DESCRIPTION: \n
X-ALT-DESC;FMTTYPE=text/html: \n
LOCATION:
END:VEVENT
END:VCALENDAR
