BEGIN:VCALENDAR
VERSION:2.0
PRODID:-//TYPO3/NONSGML Calendarize//EN
BEGIN:VEVENT
UID:calendarize-elternabend-klasse-3a-5
DTSTAMP:20251027T174323Z
DTSTART:20251028T183000Z
DTEND:20251028T200000Z
SUMMARY:Elternabend Klasse 3a
DESCRIPTION: \n
X-ALT-DESC;FMTTYPE=text/html: \n
LOCATION:
END:VEVENT
END:VCALENDAR
