BEGIN:VCALENDAR
VERSION:2.0
PRODID:-//TYPO3/NONSGML Calendarize//EN
BEGIN:VEVENT
UID:calendarize-elternabend-klasse-2b-5
DTSTAMP:20260126T135715Z
DTSTART:20260203T183000Z
DTEND:20260203T200000Z
SUMMARY:Elternabend Klasse 2b
DESCRIPTION: \n
X-ALT-DESC;FMTTYPE=text/html: \n
LOCATION:
END:VEVENT
END:VCALENDAR
