BEGIN:VCALENDAR
VERSION:2.0
PRODID:-//TYPO3/NONSGML Calendarize//EN
BEGIN:VEVENT
UID:calendarize-elternabend-klasse-2a-3
DTSTAMP:20250423T133047Z
DTSTART:20250506T173000Z
DTEND:20250506T190000Z
SUMMARY:Elternabend Klasse 2a
DESCRIPTION: \n
X-ALT-DESC;FMTTYPE=text/html: \n
LOCATION:
END:VEVENT
END:VCALENDAR
