BEGIN:VCALENDAR
VERSION:2.0
PRODID:-//TYPO3/NONSGML Calendarize//EN
BEGIN:VEVENT
UID:calendarize-elternabend-klasse-1b-4
DTSTAMP:20251027T174323Z
DTSTART:20251027T180000Z
DTEND:20251027T193000Z
SUMMARY:Elternabend Klasse 1b
DESCRIPTION: \n
X-ALT-DESC;FMTTYPE=text/html: \n
LOCATION:
END:VEVENT
END:VCALENDAR
