BEGIN:VCALENDAR
VERSION:2.0
PRODID:-//TYPO3/NONSGML Calendarize//EN
BEGIN:VEVENT
UID:calendarize-elternabend-jgst-9-fuer-kurse-9k-9g-9n
DTSTAMP:20260126T135715Z
DTSTART:20260211T180000Z
DTEND:20260211T193000Z
SUMMARY:Elternabend Jgst. 9\, für Kurse 9K\, 9G\, 9N
DESCRIPTION: \n
X-ALT-DESC;FMTTYPE=text/html: \n
LOCATION:
END:VEVENT
END:VCALENDAR
