BEGIN:VCALENDAR
VERSION:2.0
PRODID:-//TYPO3/NONSGML Calendarize//EN
BEGIN:VEVENT
UID:calendarize-elternabend-gluehwuermchen-4
DTSTAMP:20250519T145138Z
DTSTART:20250527T180000Z
DTEND:20250527T193000Z
SUMMARY:Elternabend Glühwürmchen
DESCRIPTION: \n
X-ALT-DESC;FMTTYPE=text/html: \n
LOCATION:Gruppenraum
END:VEVENT
END:VCALENDAR
