BEGIN:VCALENDAR
VERSION:2.0
PRODID:-//TYPO3/NONSGML Calendarize//EN
BEGIN:VEVENT
UID:calendarize-elternabend-4a
DTSTAMP:20250918T213132Z
DTSTART:20250924T173000Z
DTEND:20250924T190000Z
SUMMARY:Elternabend 4a
DESCRIPTION: \n
X-ALT-DESC;FMTTYPE=text/html: \n
LOCATION:
END:VEVENT
END:VCALENDAR
