BEGIN:VCALENDAR
VERSION:2.0
PRODID:-//TYPO3/NONSGML Calendarize//EN
BEGIN:VEVENT
UID:calendarize-eltern-infoabend-zum-thema-mobbing-/-cybermobbing
DTSTAMP:20251110T152445Z
DTSTART:20251118T183000Z
DTEND:20251118T200000Z
SUMMARY:Eltern-Infoabend zum Thema Mobbing / Cybermobbing
DESCRIPTION: \n
X-ALT-DESC;FMTTYPE=text/html: \n
LOCATION:
END:VEVENT
END:VCALENDAR
