BEGIN:VCALENDAR
VERSION:2.0
PRODID:-//TYPO3/NONSGML Calendarize//EN
BEGIN:VEVENT
UID:calendarize-einschulung-1b
DTSTAMP:20250715T123712Z
DTSTART;VALUE=DATE:20250821
DTEND;VALUE=DATE:20250822
SUMMARY:Einschulung 1b
DESCRIPTION: \n
X-ALT-DESC;FMTTYPE=text/html: \n
LOCATION:
END:VEVENT
END:VCALENDAR
