BEGIN:VCALENDAR
VERSION:2.0
PRODID:-//TYPO3/NONSGML Calendarize//EN
BEGIN:VEVENT
UID:calendarize-bewerbungsschluss-1-5-klasse
DTSTAMP:20260126T135715Z
DTSTART;VALUE=DATE:20260202
DTEND;VALUE=DATE:20260203
SUMMARY:Bewerbungsschluss 1. + 5. Klasse
DESCRIPTION: \n
X-ALT-DESC;FMTTYPE=text/html: \n
LOCATION:
END:VEVENT
END:VCALENDAR
