BEGIN:VCALENDAR
VERSION:2.0
PRODID:-//TYPO3/NONSGML Calendarize//EN
BEGIN:VEVENT
UID:calendarize-betriebspraktikum-klasse-10
DTSTAMP:20251027T174323Z
DTSTART;VALUE=DATE:20251020
DTEND;VALUE=DATE:20251101
SUMMARY:Betriebspraktikum Klasse 10
DESCRIPTION:
X-ALT-DESC;FMTTYPE=text/html:
LOCATION:
END:VEVENT
END:VCALENDAR
