BEGIN:VCALENDAR
VERSION:2.0
PRODID:-//TYPO3/NONSGML Calendarize//EN
BEGIN:VEVENT
UID:calendarize-auffuehrung-klassenspiel-klasse-8b-1
DTSTAMP:20260312T145215Z
DTSTART:20260326T180000Z
DTEND:20260326T200000Z
SUMMARY:Aufführung Klassenspiel Klasse 8b
DESCRIPTION:Emil und die Detektive\n
X-ALT-DESC;FMTTYPE=text/html:Emil und die Detektive\n
LOCATION:Franziskusbau
END:VEVENT
END:VCALENDAR
