BEGIN:VCALENDAR
VERSION:2.0
PRODID:-//TYPO3/NONSGML Calendarize//EN
BEGIN:VEVENT
UID:calendarize-auffuehrung-klassenspiel-der-klasse-8b-1
DTSTAMP:20250515T091609Z
DTSTART:20250517T170000Z
DTEND:20250517T190000Z
SUMMARY:Aufführung Klassenspiel der Klasse 8b
DESCRIPTION: \n
X-ALT-DESC;FMTTYPE=text/html: \n
LOCATION:Franziskusbau
END:VEVENT
END:VCALENDAR
