BEGIN:VCALENDAR
VERSION:2.0
PRODID:-//TYPO3/NONSGML Calendarize//EN
BEGIN:VEVENT
UID:calendarize-auffuehrung-klassenspiel-12-klasse-club-der-toten-dichter-
 schuelervorstellung-1
DTSTAMP:20260126T135715Z
DTSTART:20260205T090000Z
DTEND:20260205T103000Z
SUMMARY:Aufführung Klassenspiel\, 12. Klasse\, Club der toten Dichter\, S
 chülervorstellung
DESCRIPTION: \n
X-ALT-DESC;FMTTYPE=text/html: \n
LOCATION:Franziskusbau
END:VEVENT
END:VCALENDAR
