BEGIN:VCALENDAR
VERSION:2.0
PRODID:-//TYPO3/NONSGML Calendarize//EN
BEGIN:VEVENT
UID:calendarize-auffuehrung-klassenspiel-12-klasse-club-der-toten-dichter-
 oeffentliche-vorstellung-1
DTSTAMP:20260126T135715Z
DTSTART:20260207T180000Z
DTEND:20260207T193000Z
SUMMARY:Aufführung Klassenspiel\, 12. Klasse\, Club der toten Dichter\, ö
 ffentliche Vorstellung
DESCRIPTION: \n
X-ALT-DESC;FMTTYPE=text/html: \n
LOCATION:Franziskusbau
END:VEVENT
END:VCALENDAR
