BEGIN:VCALENDAR
VERSION:2.0
PRODID:-//TYPO3/NONSGML Calendarize//EN
BEGIN:VEVENT
UID:calendarize-auffuehrung-christgeburtsspiel
DTSTAMP:20251217T123538Z
DTSTART:20251217T180000Z
DTEND:20251217T193000Z
SUMMARY:Aufführung Christgeburtsspiel
DESCRIPTION: \n
X-ALT-DESC;FMTTYPE=text/html: \n
LOCATION:Franziskusbau
END:VEVENT
END:VCALENDAR
