BEGIN:VCALENDAR
VERSION:2.0
PRODID:-//TYPO3/NONSGML Calendarize//EN
BEGIN:VEVENT
UID:calendarize-alumni-dinner
DTSTAMP:20251110T152445Z
DTSTART:20251115T173000Z
DTEND:20251115T220000Z
SUMMARY:Alumni-Dinner
DESCRIPTION:Teilnehmer können sich unter der 0177-4493889 anmelden.\n
X-ALT-DESC;FMTTYPE=text/html:Teilnehmer können sich unter der 0177-449388
 9 anmelden.\n
LOCATION:Restaurant Kaiser-Pavillion im Emaillierwerk Fulda 
END:VEVENT
END:VCALENDAR
