BEGIN:VCALENDAR
VERSION:2.0
PRODID:-//TYPO3/NONSGML Calendarize//EN
BEGIN:VEVENT
UID:calendarize-adventsgaertlein-klassen-1-und-2
DTSTAMP:20251119T104234Z
DTSTART;VALUE=DATE:20251128
DTEND;VALUE=DATE:20251129
SUMMARY:Adventsgärtlein Klassen 1 und 2
DESCRIPTION: \n
X-ALT-DESC;FMTTYPE=text/html: \n
LOCATION:
END:VEVENT
END:VCALENDAR
